BEGIN:VCALENDAR
VERSION:2.0
PRODID:-//SVČ Sluníčko Lomnice nad Popelkou - ECPv6.0.8//NONSGML v1.0//EN
CALSCALE:GREGORIAN
METHOD:PUBLISH
X-WR-CALNAME:SVČ Sluníčko Lomnice nad Popelkou
X-ORIGINAL-URL:https://svclomnice.cz
X-WR-CALDESC:Akce na SVČ Sluníčko Lomnice nad Popelkou
REFRESH-INTERVAL;VALUE=DURATION:PT1H
X-Robots-Tag:noindex
X-PUBLISHED-TTL:PT1H
BEGIN:VTIMEZONE
TZID:Europe/Prague
BEGIN:DAYLIGHT
TZOFFSETFROM:+0100
TZOFFSETTO:+0200
TZNAME:CEST
DTSTART:20260329T010000
END:DAYLIGHT
BEGIN:STANDARD
TZOFFSETFROM:+0200
TZOFFSETTO:+0100
TZNAME:CET
DTSTART:20261025T010000
END:STANDARD
END:VTIMEZONE
BEGIN:VEVENT
DTSTART;TZID=Europe/Prague:20260202T140000
DTEND;TZID=Europe/Prague:20261130T160000
DTSTAMP:20260420T031002
CREATED:20251231T090035Z
LAST-MODIFIED:20260106T130744Z
UID:38659-1770040800-1796054400@svclomnice.cz
SUMMARY:Expozice historických loutek na zámku
DESCRIPTION:NA ZÁMKU V LOMNICI NAD POPELKOU. \n 
URL:https://svclomnice.cz/akce/expozice-historickych-loutek-na-zamku/
LOCATION:areál zámku
ATTACH;FMTTYPE=image/jpeg:https://svclomnice.cz/wp-content/uploads/2025/12/100.jpg
ORGANIZER;CN="Jana%20%C5%A0im%C5%AFnkov%C3%A1":MAILTO:simunkova@svclomnice.cz
END:VEVENT
BEGIN:VEVENT
DTSTART;TZID=Europe/Prague:20260407T093000
DTEND;TZID=Europe/Prague:20260602T113000
DTSTAMP:20260420T031002
CREATED:20250923T151029Z
LAST-MODIFIED:20260401T103411Z
UID:38392-1775554200-1780399800@svclomnice.cz
SUMMARY:Otevřená herna
DESCRIPTION:Každé úterý interaktivní zábavná herna pro rodiče s dětmi.\nHračky\, houpačka\, klouzačka\, motorky\, kočárky\, překážková dráha pro starší děti. Koberec a hračky též pro kojence.\nMožnost občerstvení\, zázemí pro přípravu svačinky.\nPoplatek 70Kč / 2 hodiny.
URL:https://svclomnice.cz/akce/otevrena-herna-2/
ATTACH;FMTTYPE=image/jpeg:https://svclomnice.cz/wp-content/uploads/2023/01/fotolia_78388454_s.jpg
END:VEVENT
BEGIN:VEVENT
DTSTART;TZID=Europe/Prague:20260422T170000
DTEND;TZID=Europe/Prague:20260422T180000
DTSTAMP:20260420T031002
CREATED:20260407T150908Z
LAST-MODIFIED:20260407T150908Z
UID:38956-1776877200-1776880800@svclomnice.cz
SUMMARY:Talíř a váha pod kontrolou
DESCRIPTION:Jak jednoduché nastavení mysli\, dechu\, stravy a pohybu ovlivňuje velikosti oblečení v našem šatníku. \nPřednáška nejen o kaloriích. Pro všechny\, koho zajímá\, jak lze postupy KBT (kognitivně behaviorální terapie) změnit špatné stravovací návyky\, zkrotit čísla na osobní váze a upravit délku opasků. \nLektor: výživový poradce Václav Novotný\, DiS
URL:https://svclomnice.cz/akce/talir-a-vaha-pod-kontrolou/
LOCATION:Středisko volného času Sluníčko\, Komenského 1037\, Lomnice nad Popelkou
ATTACH;FMTTYPE=image/jpeg:https://svclomnice.cz/wp-content/uploads/2022/07/images.jpg
ORGANIZER;CN="Jana%20%C5%A0im%C5%AFnkov%C3%A1":MAILTO:simunkova@svclomnice.cz
END:VEVENT
BEGIN:VEVENT
DTSTART;TZID=Europe/Prague:20260425T080000
DTEND;TZID=Europe/Prague:20260425T170000
DTSTAMP:20260420T031002
CREATED:20260226T142335Z
LAST-MODIFIED:20260226T142335Z
UID:38911-1777104000-1777136400@svclomnice.cz
SUMMARY:Zlatá včela
DESCRIPTION:soutěž…
URL:https://svclomnice.cz/akce/zlata-vcela-2/
LOCATION:Svč  Sluníčko
ATTACH;FMTTYPE=image/jpeg:https://svclomnice.cz/wp-content/uploads/2024/01/vcela.jpg
ORGANIZER;CN="Jana%20%C5%A0im%C5%AFnkov%C3%A1":MAILTO:simunkova@svclomnice.cz
END:VEVENT
BEGIN:VEVENT
DTSTART;TZID=Europe/Prague:20260426T090000
DTEND;TZID=Europe/Prague:20260430T160000
DTSTAMP:20260420T031002
CREATED:20250424T120525Z
LAST-MODIFIED:20250916T063718Z
UID:37468-1777194000-1777564800@svclomnice.cz
SUMMARY:Čarodějnická stezka Oborou
DESCRIPTION:Stezka začíná v Oboře u rybníka…..
URL:https://svclomnice.cz/akce/carodejnicka-stezka-oborou/
ATTACH;FMTTYPE=image/jpeg:https://svclomnice.cz/wp-content/uploads/2024/01/44899ae740514a0d9948533068e5d5f3.jpg
ORGANIZER;CN="Jana%20%C5%A0im%C5%AFnkov%C3%A1":MAILTO:simunkova@svclomnice.cz
END:VEVENT
BEGIN:VEVENT
DTSTART;TZID=Europe/Prague:20260522T160000
DTEND;TZID=Europe/Prague:20260522T173000
DTSTAMP:20260420T031002
CREATED:20260415T090343Z
LAST-MODIFIED:20260415T090813Z
UID:38960-1779465600-1779471000@svclomnice.cz
SUMMARY:Hrajeme KARAK
DESCRIPTION:Novou deskovou hru vás naučíme … \nTi c ji znají si dají malý turnaj… \nUrčeno pro všechny věkové kategorie.
URL:https://svclomnice.cz/akce/hrajeme-karak/
ATTACH;FMTTYPE=image/jpeg:https://svclomnice.cz/wp-content/uploads/2026/04/stahnout.jpg
END:VEVENT
BEGIN:VEVENT
DTSTART;TZID=Europe/Prague:20260522T180000
DTEND;TZID=Europe/Prague:20260523T090000
DTSTAMP:20260420T031002
CREATED:20251202T114551Z
LAST-MODIFIED:20260415T085633Z
UID:38596-1779472800-1779526800@svclomnice.cz
SUMMARY:Nocování ve Sluníčku
DESCRIPTION:S sebou: vlastní spacák\, polštářek\, svoji oblíbenou hračku nebo knížku\, kartáček na zuby a zubní pastu\, přezůvky\, pyžamo. \nZajištěna je večeře a snídaně. \nZačínáme  v 18 hodin a končíme v sobotu v 9 hodin. \n  \nPro kluky i holky od 1. třídy. \nPočet účastníků je omezen. Přihlášky v SVČ Sluníčko. \nSportovní obuv do haly s sebou. \nPůjdeme třeba i do Obory… \n 
URL:https://svclomnice.cz/akce/nocovani-ve-slunicku-3-2-3-3-2/
LOCATION:Středisko volného času Sluníčko\, Komenského 1037\, Lomnice nad Popelkou
ATTACH;FMTTYPE=image/jpeg:https://svclomnice.cz/wp-content/uploads/2021/08/homepage-zajmove-krouzky-2021-2.jpg
ORGANIZER;CN="Jana%20%C5%A0im%C5%AFnkov%C3%A1":MAILTO:simunkova@svclomnice.cz
END:VEVENT
BEGIN:VEVENT
DTSTART;TZID=Europe/Prague:20260523T080000
DTEND;TZID=Europe/Prague:20260523T120000
DTSTAMP:20260420T031002
CREATED:20240104T165409Z
LAST-MODIFIED:20250916T063051Z
UID:34611-1779523200-1779537600@svclomnice.cz
SUMMARY:Cesta pohádkovým lesem
DESCRIPTION:Start v 8 hodin v Oboře. \nKoná se ve spolupráci s Českým klubem turistů. \n  \n 
URL:https://svclomnice.cz/akce/cesta-pohadkovym-lesem/
LOCATION:Středisko volného času Sluníčko\, Komenského 1037\, Lomnice nad Popelkou
ATTACH;FMTTYPE=image/jpeg:https://svclomnice.cz/wp-content/uploads/2024/01/DSC_0552-scaled.jpg
END:VEVENT
BEGIN:VEVENT
DTSTART;TZID=Europe/Prague:20260529T170000
DTEND;TZID=Europe/Prague:20260529T190000
DTSTAMP:20260420T031002
CREATED:20240902T103101Z
LAST-MODIFIED:20250916T063508Z
UID:36341-1780074000-1780081200@svclomnice.cz
SUMMARY:Sluníčkové radování
DESCRIPTION:Téma – Večer snů. \nTaneční\, hudební\, pěvecká\, loutková zábavná vystoupení dětí i dospělých ze zájmových kroužků SVČ Sluníčko.
URL:https://svclomnice.cz/akce/slunickove-radovani-2/
LOCATION:Tylovo Divadlo\, plk. Truhláře 2\, Lomnice nad Popelkou\, 512 51
ATTACH;FMTTYPE=image/jpeg:https://svclomnice.cz/wp-content/uploads/2019/06/nov-666-orig1.jpg
ORGANIZER;CN="Jana%20%C5%A0im%C5%AFnkov%C3%A1":MAILTO:simunkova@svclomnice.cz
END:VEVENT
BEGIN:VEVENT
DTSTART;TZID=Europe/Prague:20260530T130000
DTEND;TZID=Europe/Prague:20260530T160000
DTSTAMP:20260420T031002
CREATED:20250324T155744Z
LAST-MODIFIED:20260316T163027Z
UID:37391-1780146000-1780156800@svclomnice.cz
SUMMARY:Dětská zámecká sobota
DESCRIPTION:
URL:https://svclomnice.cz/akce/staroceska-pout-aneb-detska-zamecka-sobota/
LOCATION:sportovní hala
ATTACH;FMTTYPE=image/jpeg:https://svclomnice.cz/wp-content/uploads/2022/09/ilustrativni-obrazek-deti.jpg
ORGANIZER;CN="Jana%20%C5%A0im%C5%AFnkov%C3%A1":MAILTO:simunkova@svclomnice.cz
END:VEVENT
BEGIN:VEVENT
DTSTART;TZID=Europe/Prague:20260531T160000
DTEND;TZID=Europe/Prague:20260603T140000
DTSTAMP:20260420T031002
CREATED:20250122T115356Z
LAST-MODIFIED:20260316T171030Z
UID:37146-1780243200-1780495200@svclomnice.cz
SUMMARY:Stanování v Krčkovicích
DESCRIPTION:Mateřské centrum Dudlík a SVČ zvou rodiče i prarodiče s dětmi na společný pobyt ve stanové základně Sokol Lomnice n.P. \nTermín :  31. května – 3. června 2026 \nPodrobné informace a nezávazné přihlášky v SVČ nebo na telefonu 604 611 144.
URL:https://svclomnice.cz/akce/stanovani-v-krckovicich-2/
ATTACH;FMTTYPE=image/jpeg:https://svclomnice.cz/wp-content/uploads/2025/01/Krckovice3.jpg
END:VEVENT
BEGIN:VEVENT
DTSTART;TZID=Europe/Prague:20260607T170000
DTEND;TZID=Europe/Prague:20260611T120000
DTSTAMP:20260420T031002
CREATED:20240109T165246Z
LAST-MODIFIED:20260101T120900Z
UID:34643-1780851600-1781179200@svclomnice.cz
SUMMARY:Senior kemp v Krčkovicích
DESCRIPTION:Téma:  INDIÁNI \nProgram – pořadatel si vyhrazuje právo změny podle počasí a nálady účastníků J \nAktivity nejsou povinné\, ale záleží jen a jen na vás\, zda se zapojíte a zažijete s námi něco nového. \nOdjet můžete z kempu i dříve – záleží na vašich možnostech a schopnostech. \nBěhem celého pobytu bude k zapůjčení:\nDeskové hry (známé i neznámé)\, míče\, badminton\, líný tenis\, petang\, šipky… \nKaždý večer: oheň\, možnost opékání\, zpívání – budeme mít i po celý pobyt harmonikáře\n                       „Šipkovaná“ – každý účastník bude mít na den 5 hodů – cena „Nejlepší šipkař“ bude\n                       předána na konci pobytu \nUbytování:\nVe stanech s podsadou pro 2 osoby nebo každý sám (nutno nahlásit – napsat do přihlášky) \nStravování:\nZajištěno 4x denně včetně pitného režimu \nCena pobytu: 1500Kč / osobu (ubytování\, stravování\, režie) … uhradit nejdéle do 10.května na účet\n                          Sluníčko  78-9630830237/0100\, VS – 06\,  nebo přímo v kanceláři SVČ Sluníčko \nCo si vzít s sebou:\nVše\, s čím můžete překvapit\, pobavit ostatní účastníky během pobytu a hlavně dobrou náladu. \nVhodné oblečení (do sucha i do deště)\, teplé oblečení na noc do stanu\, deku a spacák\, pláštěnku\, baterku\, toaletní papír\, hygienické potřeby ….. a plno dalších věcí si zabalte do kufru\, aby se vám vešel pod postel J\nVšichni určitě dobře zvážíte\, co si s sebou do přírody vzít\, hlavně aby vám nebyla zima. \nDoprava:\nKaždý účastník si zajišťuje sám!!! \nNástup je nejdříve v 16\,00 hodin v neděli\, odjezd ve čtvrtek do 12 hodin. \n  \nPřihlášky zasílejte na simunkova@svclomnice.cz \ntelefon 604 528 279 \n  \n  \n 
URL:https://svclomnice.cz/akce/senior-kemp-v-krckovicich/
LOCATION:Krčkovice
ATTACH;FMTTYPE=image/jpeg:https://svclomnice.cz/wp-content/uploads/2024/01/Celkovy-pohled-na-tabor-Krckovice.jpg
END:VEVENT
BEGIN:VEVENT
DTSTART;TZID=Europe/Prague:20260629T080000
DTEND;TZID=Europe/Prague:20260703T150000
DTSTAMP:20260420T031002
CREATED:20260130T152416Z
LAST-MODIFIED:20260210T080516Z
UID:38737-1782720000-1783090800@svclomnice.cz
SUMMARY:1. běh příměstského tábora
DESCRIPTION:Pro děti od 1.třídy ZŠ. \nCena na každý den je 250Kč. \nZahájení každý den v 8\,00 hodin a ukončení v 15\,00 hodin v SVČ Sluníčko (pod vedoucí neurčí jinak). \nS sebou vždy: pláštěnku\, jídlo a pití na celý den\, plavky a ručník.  \n29.6. – vlakem do Košťálova na koupaliště. Hry\, koupání… \n30.6. – vlastním autobusem do skalního města.  \n1.7. – autobusem do Vrchlabí na koupání do Aquacentra. \n2.7. – vlakem do Sobotky na Humprecht. \n3.7.  dobrodružství s Tataříkem v okolí Lomnice nad Popelkou. \nZměna programu vyhrazena. Možnost změny podle počasí. \n  \n  \n  \n  \n  \n  \n  \n  \n  \n  \n  \n  \n  \n  \n  \n  \n  \n  \n  \n  \n  \n  \n 
URL:https://svclomnice.cz/akce/1-beh-primestskeho-tabora/
LOCATION:Středisko volného času Sluníčko\, Komenského 1037\, Lomnice nad Popelkou
ATTACH;FMTTYPE=image/jpeg:https://svclomnice.cz/wp-content/uploads/2024/03/OIP-1.jpg
ORGANIZER;CN="Jana%20%C5%A0im%C5%AFnkov%C3%A1":MAILTO:simunkova@svclomnice.cz
END:VEVENT
BEGIN:VEVENT
DTSTART;TZID=Europe/Prague:20260707T080000
DTEND;TZID=Europe/Prague:20260710T150000
DTSTAMP:20260420T031002
CREATED:20260205T083844Z
LAST-MODIFIED:20260210T080438Z
UID:38742-1783411200-1783695600@svclomnice.cz
SUMMARY:2. běh příměstského tábora
DESCRIPTION:Pro děti od 1.třídy ZŠ. \nCena na každý den je 250Kč. \nZahájení každý den v 8\,00 hodin a ukončení v 15\,00 hodin v SVČ Sluníčko (pod vedoucí neurčí jinak). \nS sebou vždy: jídlo a pití na celý den\, plavky a ručník.  \n7.7. – MINECRAFTÍ SVĚT – den plný minecraftích aktivit. \n8.7. – DEN S ANIMÁKEM – základy tvorby animovaného filmu\, každý si bude tvořit svůj malý film. Vytvoříte si hologram… \n9.7. – VÝTVARNÁ AKADEMIE – vyzkoušíte si nejrůznější výtvarné techniky. Půjdeme do zákulisí loutkového divadla\, vytvoříte si svoji loutku…. \n10.7. – TECHNICKÉ DOBRODRUŽSTVÍ – den plný šroubků\, matiček\, hřebíků\, elektrických obvodů… \n  \nMIMO TĚCHTO AKTIVIT\, POKUD POČASÍ DOVOLÍ\, BUDEME CHODIT NA KOUPALIŠTĚ. \n  \nZměna programu vyhrazena.  \nTelefon na vedoucí tábora –   604 528 279 \n  \n  \n  \n  \n  \n  \n  \n  \n  \n  \n  \n  \n  \n  \n  \n  \n  \n  \n  \n  \n  \n 
URL:https://svclomnice.cz/akce/2-beh-primestskeho-tabora/
LOCATION:Středisko volného času Sluníčko\, Komenského 1037\, Lomnice nad Popelkou
ATTACH;FMTTYPE=image/jpeg:https://svclomnice.cz/wp-content/uploads/2024/09/IMG_20250703_093457-scaled.jpg
ORGANIZER;CN="Jana%20%C5%A0im%C5%AFnkov%C3%A1":MAILTO:simunkova@svclomnice.cz
END:VEVENT
BEGIN:VEVENT
DTSTART;TZID=Europe/Prague:20260713T080000
DTEND;TZID=Europe/Prague:20260717T150000
DTSTAMP:20260420T031002
CREATED:20260130T153221Z
LAST-MODIFIED:20260210T080347Z
UID:38739-1783929600-1784300400@svclomnice.cz
SUMMARY:3. běh příměstského tábora
DESCRIPTION:Pro děti od 1.třídy ZŠ. Během týdne navštívíme složky IZS. \nCena na každý den je 250Kč. \nZahájení každý den v 8\,00 hodin a ukončení v 15\,00 hodin v SVČ Sluníčko (pod vedoucí neurčí jinak). \nS sebou vždy: Jídlo a pití na celý den\, plavky a ručník. Pláštěnku. \n13.7. – Sportování se Zumou \n14.7. – s Chasem za Policií \n15.7. – s Marschallem za Hasiči \n16.7. – se Sky za záchranáři \n17.7. – s Rockym do přírody \n  \nZměna programu vyhrazena.  \nTelefon na vedoucí tábora –   732 926 728 \n  \n  \n  \n  \n  \n  \n  \n  \n  \n  \n  \n  \n  \n  \n  \n  \n  \n  \n  \n  \n  \n 
URL:https://svclomnice.cz/akce/3-beh-primestskeho-tabora/
LOCATION:Středisko volného času Sluníčko\, Komenského 1037\, Lomnice nad Popelkou
ATTACH;FMTTYPE=image/webp:https://svclomnice.cz/wp-content/uploads/2026/01/t_16x9_medium_1366_768.webp
ORGANIZER;CN="Jana%20%C5%A0im%C5%AFnkov%C3%A1":MAILTO:simunkova@svclomnice.cz
END:VEVENT
BEGIN:VEVENT
DTSTART;TZID=Europe/Prague:20260802T100000
DTEND;TZID=Europe/Prague:20260807T150000
DTSTAMP:20260420T031002
CREATED:20250530T083049Z
LAST-MODIFIED:20260210T081049Z
UID:37879-1785664800-1786114800@svclomnice.cz
SUMMARY:Baby táboreček
DESCRIPTION:Roudné pro Frýdštejnem – penzion. \n 
URL:https://svclomnice.cz/akce/baby-taborecek/
LOCATION:Středisko volného času Sluníčko\, Komenského 1037\, Lomnice nad Popelkou
ATTACH;FMTTYPE=image/jpeg:https://svclomnice.cz/wp-content/uploads/2025/05/images.jpg
ORGANIZER;CN="Jana%20%C5%A0im%C5%AFnkov%C3%A1":MAILTO:simunkova@svclomnice.cz
END:VEVENT
BEGIN:VEVENT
DTSTART;TZID=Europe/Prague:20260809T140000
DTEND;TZID=Europe/Prague:20260821T150000
DTSTAMP:20260420T031002
CREATED:20260206T093005Z
LAST-MODIFIED:20260206T093334Z
UID:38754-1786284000-1787324400@svclomnice.cz
SUMMARY:Stanový tábor v Prorubkách 2026
DESCRIPTION:Kontakt na vedoucí: Mgr. Jana Šimůnková\, telefon 604 528 279 \nPŘIHLÁŠKY ZDE \n  \n  \n  \n  \n  \n  \n  \n  \n  \n  \n  \n  \n  \n  \n  \n  \n  \n  \n  \n  \n 
URL:https://svclomnice.cz/akce/stanovy-tabor-v-prorubkach-2026/
LOCATION:Středisko volného času Sluníčko\, Komenského 1037\, Lomnice nad Popelkou
ATTACH;FMTTYPE=image/jpeg:https://svclomnice.cz/wp-content/uploads/2023/01/letni-tabory-prorubky-02-2022-.jpg
ORGANIZER;CN="Jana%20%C5%A0im%C5%AFnkov%C3%A1":MAILTO:simunkova@svclomnice.cz
END:VEVENT
BEGIN:VEVENT
DTSTART;TZID=Europe/Prague:20261024T140000
DTEND;TZID=Europe/Prague:20261025T160000
DTSTAMP:20260420T031002
CREATED:20251231T085719Z
LAST-MODIFIED:20260106T131314Z
UID:38657-1792850400-1792944000@svclomnice.cz
SUMMARY:Podzimní loutkářský víkend
DESCRIPTION:NA ZÁMKU V LOMNICI NAD POPELKOU. \nSobota 24. 10. 2025\nod 13.00 hodin – Den otevřených dveří\nod 17.00 hodin – Setkání bývalých členů a pamětníků\nLS Popelka\nNeděle 25. 10. 2026 – Loutková pohádka
URL:https://svclomnice.cz/akce/podzimni-loutkarsky-vikend/
LOCATION:areál zámku
ATTACH;FMTTYPE=image/jpeg:https://svclomnice.cz/wp-content/uploads/2025/12/100.jpg
ORGANIZER;CN="Jana%20%C5%A0im%C5%AFnkov%C3%A1":MAILTO:simunkova@svclomnice.cz
END:VEVENT
END:VCALENDAR